BEGIN:VCALENDAR
VERSION:2.0
PRODID:-//大桑村立 大桑中学校 - ECPv6.15.20//NONSGML v1.0//EN
CALSCALE:GREGORIAN
METHOD:PUBLISH
X-ORIGINAL-URL:https://jh.kiso-ookuwa.net
X-WR-CALDESC:大桑村立 大桑中学校 のイベント
REFRESH-INTERVAL;VALUE=DURATION:PT1H
X-Robots-Tag:noindex
X-PUBLISHED-TTL:PT1H
BEGIN:VTIMEZONE
TZID:Asia/Tokyo
BEGIN:STANDARD
TZOFFSETFROM:+0900
TZOFFSETTO:+0900
TZNAME:JST
DTSTART:20250101T000000
END:STANDARD
END:VTIMEZONE
BEGIN:VEVENT
DTSTART;VALUE=DATE:20260501
DTEND;VALUE=DATE:20260502
DTSTAMP:20260423T214928
CREATED:20260327T043158Z
LAST-MODIFIED:20260327T044400Z
UID:3146-1777593600-1777679999@jh.kiso-ookuwa.net
SUMMARY:修学旅行③
DESCRIPTION:
URL:https://jh.kiso-ookuwa.net/event/%e4%bf%ae%e5%ad%a6%e6%97%85%e8%a1%8c%e2%91%a2/
END:VEVENT
BEGIN:VEVENT
DTSTART;VALUE=DATE:20260512
DTEND;VALUE=DATE:20260513
DTSTAMP:20260423T214928
CREATED:20260327T031220Z
LAST-MODIFIED:20260327T031220Z
UID:3102-1778544000-1778630399@jh.kiso-ookuwa.net
SUMMARY:生徒総会
DESCRIPTION:
URL:https://jh.kiso-ookuwa.net/event/%e7%94%9f%e5%be%92%e7%b7%8f%e4%bc%9a-5/
END:VEVENT
BEGIN:VEVENT
DTSTART;VALUE=DATE:20260513
DTEND;VALUE=DATE:20260514
DTSTAMP:20260423T214928
CREATED:20260327T031332Z
LAST-MODIFIED:20260327T031436Z
UID:3104-1778630400-1778716799@jh.kiso-ookuwa.net
SUMMARY:全国学力・学習状況調査③
DESCRIPTION:
URL:https://jh.kiso-ookuwa.net/event/%e5%85%a8%e5%9b%bd%e5%ad%a6%e5%8a%9b%e3%83%bb%e5%ad%a6%e7%bf%92%e7%8a%b6%e6%b3%81%e8%aa%bf%e6%9f%bb%e2%91%a2/
END:VEVENT
BEGIN:VEVENT
DTSTART;VALUE=DATE:20260521
DTEND;VALUE=DATE:20260522
DTSTAMP:20260423T214928
CREATED:20260327T031625Z
LAST-MODIFIED:20260406T233249Z
UID:3107-1779321600-1779407999@jh.kiso-ookuwa.net
SUMMARY:１年　植樹体験
DESCRIPTION:
URL:https://jh.kiso-ookuwa.net/event/%ef%bc%91%e5%b9%b4%e3%80%80%e6%a4%8d%e6%a8%b9%e4%bd%93%e9%a8%93/
END:VEVENT
END:VCALENDAR