BEGIN:VCALENDAR
VERSION:2.0
PRODID:-//大桑村立 大桑中学校 - ECPv6.15.20//NONSGML v1.0//EN
CALSCALE:GREGORIAN
METHOD:PUBLISH
X-ORIGINAL-URL:https://jh.kiso-ookuwa.net
X-WR-CALDESC:大桑村立 大桑中学校 のイベント
REFRESH-INTERVAL;VALUE=DURATION:PT1H
X-Robots-Tag:noindex
X-PUBLISHED-TTL:PT1H
BEGIN:VTIMEZONE
TZID:Asia/Tokyo
BEGIN:STANDARD
TZOFFSETFROM:+0900
TZOFFSETTO:+0900
TZNAME:JST
DTSTART:20250101T000000
END:STANDARD
END:VTIMEZONE
BEGIN:VEVENT
DTSTART;VALUE=DATE:20260310
DTEND;VALUE=DATE:20260311
DTSTAMP:20260423T215023
CREATED:20250918T001359Z
LAST-MODIFIED:20250918T001359Z
UID:2836-1773100800-1773187199@jh.kiso-ookuwa.net
SUMMARY:後期選抜①
DESCRIPTION:
URL:https://jh.kiso-ookuwa.net/event/%e5%be%8c%e6%9c%9f%e9%81%b8%e6%8a%9c%e2%91%a0/
END:VEVENT
BEGIN:VEVENT
DTSTART;VALUE=DATE:20260311
DTEND;VALUE=DATE:20260312
DTSTAMP:20260423T215023
CREATED:20250918T001434Z
LAST-MODIFIED:20250918T001434Z
UID:2838-1773187200-1773273599@jh.kiso-ookuwa.net
SUMMARY:後期選抜②
DESCRIPTION:
URL:https://jh.kiso-ookuwa.net/event/%e5%be%8c%e6%9c%9f%e9%81%b8%e6%8a%9c%e2%91%a1/
END:VEVENT
BEGIN:VEVENT
DTSTART;VALUE=DATE:20260313
DTEND;VALUE=DATE:20260314
DTSTAMP:20260423T215023
CREATED:20250918T001531Z
LAST-MODIFIED:20250918T001531Z
UID:2840-1773360000-1773446399@jh.kiso-ookuwa.net
SUMMARY:３年生を送る会
DESCRIPTION:
URL:https://jh.kiso-ookuwa.net/event/%ef%bc%93%e5%b9%b4%e7%94%9f%e3%82%92%e9%80%81%e3%82%8b%e4%bc%9a/
END:VEVENT
BEGIN:VEVENT
DTSTART;VALUE=DATE:20260317
DTEND;VALUE=DATE:20260318
DTSTAMP:20260423T215023
CREATED:20250918T001612Z
LAST-MODIFIED:20250918T001612Z
UID:2842-1773705600-1773791999@jh.kiso-ookuwa.net
SUMMARY:３学期終業式
DESCRIPTION:
URL:https://jh.kiso-ookuwa.net/event/%ef%bc%93%e5%ad%a6%e6%9c%9f%e7%b5%82%e6%a5%ad%e5%bc%8f/
END:VEVENT
BEGIN:VEVENT
DTSTART;VALUE=DATE:20260318
DTEND;VALUE=DATE:20260319
DTSTAMP:20260423T215023
CREATED:20250918T001659Z
LAST-MODIFIED:20250918T001659Z
UID:2844-1773792000-1773878399@jh.kiso-ookuwa.net
SUMMARY:卒業証書授与式
DESCRIPTION:
URL:https://jh.kiso-ookuwa.net/event/%e5%8d%92%e6%a5%ad%e8%a8%bc%e6%9b%b8%e6%8e%88%e4%b8%8e%e5%bc%8f-2/
END:VEVENT
BEGIN:VEVENT
DTSTART;VALUE=DATE:20260319
DTEND;VALUE=DATE:20260320
DTSTAMP:20260423T215023
CREATED:20250918T001744Z
LAST-MODIFIED:20250918T002122Z
UID:2846-1773878400-1773964799@jh.kiso-ookuwa.net
SUMMARY:後期選抜　合格発表
DESCRIPTION:
URL:https://jh.kiso-ookuwa.net/event/%e5%be%8c%e6%9c%9f%e9%81%b8%e6%8a%9c%e5%90%88%e6%a0%bc%e7%99%ba%e8%a1%a8/
END:VEVENT
BEGIN:VEVENT
DTSTART;VALUE=DATE:20260327
DTEND;VALUE=DATE:20260328
DTSTAMP:20260423T215023
CREATED:20250918T001817Z
LAST-MODIFIED:20250918T001817Z
UID:2848-1774569600-1774655999@jh.kiso-ookuwa.net
SUMMARY:新２・３年登校日
DESCRIPTION:
URL:https://jh.kiso-ookuwa.net/event/%e6%96%b0%ef%bc%92%e3%83%bb%ef%bc%93%e5%b9%b4%e7%99%bb%e6%a0%a1%e6%97%a5/
END:VEVENT
END:VCALENDAR