BEGIN:VCALENDAR
VERSION:2.0
PRODID:-//大桑村立 大桑中学校 - ECPv6.15.20//NONSGML v1.0//EN
CALSCALE:GREGORIAN
METHOD:PUBLISH
X-ORIGINAL-URL:https://jh.kiso-ookuwa.net
X-WR-CALDESC:大桑村立 大桑中学校 のイベント
REFRESH-INTERVAL;VALUE=DURATION:PT1H
X-Robots-Tag:noindex
X-PUBLISHED-TTL:PT1H
BEGIN:VTIMEZONE
TZID:Asia/Tokyo
BEGIN:STANDARD
TZOFFSETFROM:+0900
TZOFFSETTO:+0900
TZNAME:JST
DTSTART:20250101T000000
END:STANDARD
END:VTIMEZONE
BEGIN:VEVENT
DTSTART;VALUE=DATE:20260709
DTEND;VALUE=DATE:20260710
DTSTAMP:20260425T220209
CREATED:20260327T042703Z
LAST-MODIFIED:20260327T042703Z
UID:3136-1783555200-1783641599@jh.kiso-ookuwa.net
SUMMARY:１・２年　学年行事①
DESCRIPTION:
URL:https://jh.kiso-ookuwa.net/event/%ef%bc%91%e3%83%bb%ef%bc%92%e5%b9%b4%e3%80%80%e5%ad%a6%e5%b9%b4%e8%a1%8c%e4%ba%8b%e2%91%a0/
END:VEVENT
BEGIN:VEVENT
DTSTART;VALUE=DATE:20260710
DTEND;VALUE=DATE:20260711
DTSTAMP:20260425T220209
CREATED:20260327T042741Z
LAST-MODIFIED:20260327T042741Z
UID:3138-1783641600-1783727999@jh.kiso-ookuwa.net
SUMMARY:１・２年　学年行事②
DESCRIPTION:
URL:https://jh.kiso-ookuwa.net/event/%ef%bc%91%e3%83%bb%ef%bc%92%e5%b9%b4%e3%80%80%e5%ad%a6%e5%b9%b4%e8%a1%8c%e4%ba%8b%e2%91%a1/
END:VEVENT
BEGIN:VEVENT
DTSTART;VALUE=DATE:20260719
DTEND;VALUE=DATE:20260720
DTSTAMP:20260425T220209
CREATED:20260327T042842Z
LAST-MODIFIED:20260327T042842Z
UID:3140-1784419200-1784505599@jh.kiso-ookuwa.net
SUMMARY:吹奏楽コンクール　中信大会Ｂ部門
DESCRIPTION:
URL:https://jh.kiso-ookuwa.net/event/%e5%90%b9%e5%a5%8f%e6%a5%bd%e3%82%b3%e3%83%b3%e3%82%af%e3%83%bc%e3%83%ab%e3%80%80%e4%b8%ad%e4%bf%a1%e5%a4%a7%e4%bc%9a%ef%bd%82%e9%83%a8%e9%96%80/
END:VEVENT
BEGIN:VEVENT
DTSTART;VALUE=DATE:20260720
DTEND;VALUE=DATE:20260721
DTSTAMP:20260425T220209
CREATED:20260327T042941Z
LAST-MODIFIED:20260327T042941Z
UID:3142-1784505600-1784591999@jh.kiso-ookuwa.net
SUMMARY:吹奏楽コンクール中信大会Ａ部門
DESCRIPTION:
URL:https://jh.kiso-ookuwa.net/event/%e5%90%b9%e5%a5%8f%e6%a5%bd%e3%82%b3%e3%83%b3%e3%82%af%e3%83%bc%e3%83%ab%e4%b8%ad%e4%bf%a1%e5%a4%a7%e4%bc%9a%ef%bd%81%e9%83%a8%e9%96%80/
END:VEVENT
BEGIN:VEVENT
DTSTART;VALUE=DATE:20260723
DTEND;VALUE=DATE:20260724
DTSTAMP:20260425T220209
CREATED:20260327T043014Z
LAST-MODIFIED:20260327T043014Z
UID:3144-1784764800-1784851199@jh.kiso-ookuwa.net
SUMMARY:１学期　終業式
DESCRIPTION:
URL:https://jh.kiso-ookuwa.net/event/%ef%bc%91%e5%ad%a6%e6%9c%9f%e3%80%80%e7%b5%82%e6%a5%ad%e5%bc%8f/
END:VEVENT
END:VCALENDAR