BEGIN:VCALENDAR
VERSION:2.0
PRODID:-//大桑村立 大桑中学校 - ECPv6.15.20//NONSGML v1.0//EN
CALSCALE:GREGORIAN
METHOD:PUBLISH
X-WR-CALNAME:大桑村立 大桑中学校
X-ORIGINAL-URL:https://jh.kiso-ookuwa.net
X-WR-CALDESC:大桑村立 大桑中学校 のイベント
REFRESH-INTERVAL;VALUE=DURATION:PT1H
X-Robots-Tag:noindex
X-PUBLISHED-TTL:PT1H
BEGIN:VTIMEZONE
TZID:Asia/Tokyo
BEGIN:STANDARD
TZOFFSETFROM:+0900
TZOFFSETTO:+0900
TZNAME:JST
DTSTART:20250101T000000
END:STANDARD
END:VTIMEZONE
BEGIN:VEVENT
DTSTART;VALUE=DATE:20260310
DTEND;VALUE=DATE:20260311
DTSTAMP:20260424T032325
CREATED:20250918T001359Z
LAST-MODIFIED:20250918T001359Z
UID:2836-1773100800-1773187199@jh.kiso-ookuwa.net
SUMMARY:後期選抜①
DESCRIPTION:
URL:https://jh.kiso-ookuwa.net/event/%e5%be%8c%e6%9c%9f%e9%81%b8%e6%8a%9c%e2%91%a0/
END:VEVENT
BEGIN:VEVENT
DTSTART;VALUE=DATE:20260311
DTEND;VALUE=DATE:20260312
DTSTAMP:20260424T032325
CREATED:20250918T001434Z
LAST-MODIFIED:20250918T001434Z
UID:2838-1773187200-1773273599@jh.kiso-ookuwa.net
SUMMARY:後期選抜②
DESCRIPTION:
URL:https://jh.kiso-ookuwa.net/event/%e5%be%8c%e6%9c%9f%e9%81%b8%e6%8a%9c%e2%91%a1/
END:VEVENT
BEGIN:VEVENT
DTSTART;VALUE=DATE:20260313
DTEND;VALUE=DATE:20260314
DTSTAMP:20260424T032325
CREATED:20250918T001531Z
LAST-MODIFIED:20250918T001531Z
UID:2840-1773360000-1773446399@jh.kiso-ookuwa.net
SUMMARY:３年生を送る会
DESCRIPTION:
URL:https://jh.kiso-ookuwa.net/event/%ef%bc%93%e5%b9%b4%e7%94%9f%e3%82%92%e9%80%81%e3%82%8b%e4%bc%9a/
END:VEVENT
BEGIN:VEVENT
DTSTART;VALUE=DATE:20260317
DTEND;VALUE=DATE:20260318
DTSTAMP:20260424T032325
CREATED:20250918T001612Z
LAST-MODIFIED:20250918T001612Z
UID:2842-1773705600-1773791999@jh.kiso-ookuwa.net
SUMMARY:３学期終業式
DESCRIPTION:
URL:https://jh.kiso-ookuwa.net/event/%ef%bc%93%e5%ad%a6%e6%9c%9f%e7%b5%82%e6%a5%ad%e5%bc%8f/
END:VEVENT
BEGIN:VEVENT
DTSTART;VALUE=DATE:20260318
DTEND;VALUE=DATE:20260319
DTSTAMP:20260424T032325
CREATED:20250918T001659Z
LAST-MODIFIED:20250918T001659Z
UID:2844-1773792000-1773878399@jh.kiso-ookuwa.net
SUMMARY:卒業証書授与式
DESCRIPTION:
URL:https://jh.kiso-ookuwa.net/event/%e5%8d%92%e6%a5%ad%e8%a8%bc%e6%9b%b8%e6%8e%88%e4%b8%8e%e5%bc%8f-2/
END:VEVENT
BEGIN:VEVENT
DTSTART;VALUE=DATE:20260319
DTEND;VALUE=DATE:20260320
DTSTAMP:20260424T032325
CREATED:20250918T001744Z
LAST-MODIFIED:20250918T002122Z
UID:2846-1773878400-1773964799@jh.kiso-ookuwa.net
SUMMARY:後期選抜　合格発表
DESCRIPTION:
URL:https://jh.kiso-ookuwa.net/event/%e5%be%8c%e6%9c%9f%e9%81%b8%e6%8a%9c%e5%90%88%e6%a0%bc%e7%99%ba%e8%a1%a8/
END:VEVENT
BEGIN:VEVENT
DTSTART;VALUE=DATE:20260327
DTEND;VALUE=DATE:20260328
DTSTAMP:20260424T032325
CREATED:20250918T001817Z
LAST-MODIFIED:20250918T001817Z
UID:2848-1774569600-1774655999@jh.kiso-ookuwa.net
SUMMARY:新２・３年登校日
DESCRIPTION:
URL:https://jh.kiso-ookuwa.net/event/%e6%96%b0%ef%bc%92%e3%83%bb%ef%bc%93%e5%b9%b4%e7%99%bb%e6%a0%a1%e6%97%a5/
END:VEVENT
BEGIN:VEVENT
DTSTART;VALUE=DATE:20260406
DTEND;VALUE=DATE:20260407
DTSTAMP:20260424T032325
CREATED:20260327T025522Z
LAST-MODIFIED:20260327T032036Z
UID:3074-1775433600-1775519999@jh.kiso-ookuwa.net
SUMMARY:入学式　始業式
DESCRIPTION:
URL:https://jh.kiso-ookuwa.net/event/%e5%85%a5%e5%ad%a6%e5%bc%8f/
END:VEVENT
BEGIN:VEVENT
DTSTART;VALUE=DATE:20260407
DTEND;VALUE=DATE:20260408
DTSTAMP:20260424T032325
CREATED:20260327T025708Z
LAST-MODIFIED:20260327T025708Z
UID:3076-1775520000-1775606399@jh.kiso-ookuwa.net
SUMMARY:復習テスト　交通安全教室
DESCRIPTION:
URL:https://jh.kiso-ookuwa.net/event/%e5%be%a9%e7%bf%92%e3%83%86%e3%82%b9%e3%83%88%e3%80%80%e4%ba%a4%e9%80%9a%e5%ae%89%e5%85%a8%e6%95%99%e5%ae%a4/
END:VEVENT
BEGIN:VEVENT
DTSTART;VALUE=DATE:20260408
DTEND;VALUE=DATE:20260409
DTSTAMP:20260424T032325
CREATED:20260327T025819Z
LAST-MODIFIED:20260327T025819Z
UID:3078-1775606400-1775692799@jh.kiso-ookuwa.net
SUMMARY:ガイダンス　生徒会入会式
DESCRIPTION:
URL:https://jh.kiso-ookuwa.net/event/%e3%82%ac%e3%82%a4%e3%83%80%e3%83%b3%e3%82%b9%e3%80%80%e7%94%9f%e5%be%92%e4%bc%9a%e5%85%a5%e4%bc%9a%e5%bc%8f/
END:VEVENT
BEGIN:VEVENT
DTSTART;VALUE=DATE:20260409
DTEND;VALUE=DATE:20260410
DTSTAMP:20260424T032325
CREATED:20260327T025914Z
LAST-MODIFIED:20260327T025914Z
UID:3080-1775692800-1775779199@jh.kiso-ookuwa.net
SUMMARY:部活動発足会
DESCRIPTION:
URL:https://jh.kiso-ookuwa.net/event/%e9%83%a8%e6%b4%bb%e5%8b%95%e7%99%ba%e8%b6%b3%e4%bc%9a/
END:VEVENT
BEGIN:VEVENT
DTSTART;VALUE=DATE:20260413
DTEND;VALUE=DATE:20260414
DTSTAMP:20260424T032325
CREATED:20260327T025957Z
LAST-MODIFIED:20260327T025957Z
UID:3082-1776038400-1776124799@jh.kiso-ookuwa.net
SUMMARY:避難訓練
DESCRIPTION:
URL:https://jh.kiso-ookuwa.net/event/%e9%81%bf%e9%9b%a3%e8%a8%93%e7%b7%b4/
END:VEVENT
BEGIN:VEVENT
DTSTART;VALUE=DATE:20260415
DTEND;VALUE=DATE:20260416
DTSTAMP:20260424T032325
CREATED:20260327T030205Z
LAST-MODIFIED:20260327T030205Z
UID:3084-1776211200-1776297599@jh.kiso-ookuwa.net
SUMMARY:１年　家庭訪問①
DESCRIPTION:
URL:https://jh.kiso-ookuwa.net/event/%ef%bc%91%e5%b9%b4%e3%80%80%e5%ae%b6%e5%ba%ad%e8%a8%aa%e5%95%8f%e2%91%a0/
END:VEVENT
BEGIN:VEVENT
DTSTART;VALUE=DATE:20260416
DTEND;VALUE=DATE:20260417
DTSTAMP:20260424T032325
CREATED:20260327T030252Z
LAST-MODIFIED:20260327T030252Z
UID:3086-1776297600-1776383999@jh.kiso-ookuwa.net
SUMMARY:１年　家庭訪問②
DESCRIPTION:
URL:https://jh.kiso-ookuwa.net/event/%ef%bc%91%e5%b9%b4%e3%80%80%e5%ae%b6%e5%ba%ad%e8%a8%aa%e5%95%8f%e2%91%a1/
END:VEVENT
BEGIN:VEVENT
DTSTART;VALUE=DATE:20260417
DTEND;VALUE=DATE:20260418
DTSTAMP:20260424T032325
CREATED:20260327T030406Z
LAST-MODIFIED:20260327T030631Z
UID:3088-1776384000-1776470399@jh.kiso-ookuwa.net
SUMMARY:１年　家庭訪問③　発育測定
DESCRIPTION:
URL:https://jh.kiso-ookuwa.net/event/%ef%bc%91%e5%b9%b4%e3%80%80%e5%ae%b6%e5%ba%ad%e8%a8%aa%e5%95%8f%e2%91%a2%e3%80%80%e7%99%ba%e8%82%b2%e6%b8%ac%e5%ae%9a/
END:VEVENT
BEGIN:VEVENT
DTSTART;VALUE=DATE:20260421
DTEND;VALUE=DATE:20260422
DTSTAMP:20260424T032325
CREATED:20260327T030735Z
LAST-MODIFIED:20260327T030735Z
UID:3090-1776729600-1776815999@jh.kiso-ookuwa.net
SUMMARY:全国学力・学習状況尾調査①
DESCRIPTION:
URL:https://jh.kiso-ookuwa.net/event/%e5%85%a8%e5%9b%bd%e5%ad%a6%e5%8a%9b%e3%83%bb%e5%ad%a6%e7%bf%92%e7%8a%b6%e6%b3%81%e5%b0%be%e8%aa%bf%e6%9f%bb%e2%91%a0/
END:VEVENT
BEGIN:VEVENT
DTSTART;VALUE=DATE:20260423
DTEND;VALUE=DATE:20260424
DTSTAMP:20260424T032325
CREATED:20260327T030929Z
LAST-MODIFIED:20260327T030929Z
UID:3093-1776902400-1776988799@jh.kiso-ookuwa.net
SUMMARY:全国学力・学習状況調査②
DESCRIPTION:
URL:https://jh.kiso-ookuwa.net/event/%e5%85%a8%e5%9b%bd%e5%ad%a6%e5%8a%9b%e3%83%bb%e5%ad%a6%e7%bf%92%e7%8a%b6%e6%b3%81%e8%aa%bf%e6%9f%bb%e2%91%a1/
END:VEVENT
BEGIN:VEVENT
DTSTART;VALUE=DATE:20260424
DTEND;VALUE=DATE:20260425
DTSTAMP:20260424T032325
CREATED:20260327T031000Z
LAST-MODIFIED:20260327T031000Z
UID:3095-1776988800-1777075199@jh.kiso-ookuwa.net
SUMMARY:参観日　ＰＴＡ総会
DESCRIPTION:
URL:https://jh.kiso-ookuwa.net/event/%e5%8f%82%e8%a6%b3%e6%97%a5%e3%80%80%ef%bd%90%ef%bd%94%ef%bd%81%e7%b7%8f%e4%bc%9a/
END:VEVENT
BEGIN:VEVENT
DTSTART;VALUE=DATE:20260429
DTEND;VALUE=DATE:20260430
DTSTAMP:20260424T032325
CREATED:20260327T031048Z
LAST-MODIFIED:20260327T031048Z
UID:3097-1777420800-1777507199@jh.kiso-ookuwa.net
SUMMARY:修学旅行①
DESCRIPTION:
URL:https://jh.kiso-ookuwa.net/event/%e4%bf%ae%e5%ad%a6%e6%97%85%e8%a1%8c%e2%91%a0/
END:VEVENT
BEGIN:VEVENT
DTSTART;VALUE=DATE:20260430
DTEND;VALUE=DATE:20260501
DTSTAMP:20260424T032325
CREATED:20260327T031146Z
LAST-MODIFIED:20260327T031146Z
UID:3099-1777507200-1777593599@jh.kiso-ookuwa.net
SUMMARY:修学旅行②
DESCRIPTION:
URL:https://jh.kiso-ookuwa.net/event/%e4%bf%ae%e5%ad%a6%e6%97%85%e8%a1%8c%e2%91%a1/
END:VEVENT
BEGIN:VEVENT
DTSTART;VALUE=DATE:20260501
DTEND;VALUE=DATE:20260502
DTSTAMP:20260424T032325
CREATED:20260327T043158Z
LAST-MODIFIED:20260327T044400Z
UID:3146-1777593600-1777679999@jh.kiso-ookuwa.net
SUMMARY:修学旅行③
DESCRIPTION:
URL:https://jh.kiso-ookuwa.net/event/%e4%bf%ae%e5%ad%a6%e6%97%85%e8%a1%8c%e2%91%a2/
END:VEVENT
BEGIN:VEVENT
DTSTART;VALUE=DATE:20260512
DTEND;VALUE=DATE:20260513
DTSTAMP:20260424T032325
CREATED:20260327T031220Z
LAST-MODIFIED:20260327T031220Z
UID:3102-1778544000-1778630399@jh.kiso-ookuwa.net
SUMMARY:生徒総会
DESCRIPTION:
URL:https://jh.kiso-ookuwa.net/event/%e7%94%9f%e5%be%92%e7%b7%8f%e4%bc%9a-5/
END:VEVENT
BEGIN:VEVENT
DTSTART;VALUE=DATE:20260513
DTEND;VALUE=DATE:20260514
DTSTAMP:20260424T032325
CREATED:20260327T031332Z
LAST-MODIFIED:20260327T031436Z
UID:3104-1778630400-1778716799@jh.kiso-ookuwa.net
SUMMARY:全国学力・学習状況調査③
DESCRIPTION:
URL:https://jh.kiso-ookuwa.net/event/%e5%85%a8%e5%9b%bd%e5%ad%a6%e5%8a%9b%e3%83%bb%e5%ad%a6%e7%bf%92%e7%8a%b6%e6%b3%81%e8%aa%bf%e6%9f%bb%e2%91%a2/
END:VEVENT
BEGIN:VEVENT
DTSTART;VALUE=DATE:20260521
DTEND;VALUE=DATE:20260522
DTSTAMP:20260424T032325
CREATED:20260327T031625Z
LAST-MODIFIED:20260406T233249Z
UID:3107-1779321600-1779407999@jh.kiso-ookuwa.net
SUMMARY:１年　植樹体験
DESCRIPTION:
URL:https://jh.kiso-ookuwa.net/event/%ef%bc%91%e5%b9%b4%e3%80%80%e6%a4%8d%e6%a8%b9%e4%bd%93%e9%a8%93/
END:VEVENT
BEGIN:VEVENT
DTSTART;VALUE=DATE:20260604
DTEND;VALUE=DATE:20260605
DTSTAMP:20260424T032325
CREATED:20260327T041622Z
LAST-MODIFIED:20260327T041622Z
UID:3111-1780531200-1780617599@jh.kiso-ookuwa.net
SUMMARY:移動音楽教室
DESCRIPTION:
URL:https://jh.kiso-ookuwa.net/event/%e7%a7%bb%e5%8b%95%e9%9f%b3%e6%a5%bd%e6%95%99%e5%ae%a4/
END:VEVENT
BEGIN:VEVENT
DTSTART;VALUE=DATE:20260605
DTEND;VALUE=DATE:20260606
DTSTAMP:20260424T032325
CREATED:20260327T041728Z
LAST-MODIFIED:20260327T041728Z
UID:3113-1780617600-1780703999@jh.kiso-ookuwa.net
SUMMARY:中体連中信大会　壮行会
DESCRIPTION:
URL:https://jh.kiso-ookuwa.net/event/%e4%b8%ad%e4%bd%93%e9%80%a3%e4%b8%ad%e4%bf%a1%e5%a4%a7%e4%bc%9a%e3%80%80%e5%a3%ae%e8%a1%8c%e4%bc%9a/
END:VEVENT
BEGIN:VEVENT
DTSTART;VALUE=DATE:20260606
DTEND;VALUE=DATE:20260607
DTSTAMP:20260424T032325
CREATED:20260327T042016Z
LAST-MODIFIED:20260327T042016Z
UID:3121-1780704000-1780790399@jh.kiso-ookuwa.net
SUMMARY:中体連　中信地区大会（陸上・バスケ）
DESCRIPTION:
URL:https://jh.kiso-ookuwa.net/event/%e4%b8%ad%e4%bd%93%e9%80%a3%e3%80%80%e4%b8%ad%e4%bf%a1%e5%9c%b0%e5%8c%ba%e5%a4%a7%e4%bc%9a%ef%bc%88%e9%99%b8%e4%b8%8a%e3%83%bb%e3%83%90%e3%82%b9%e3%82%b1%ef%bc%89/
END:VEVENT
BEGIN:VEVENT
DTSTART;VALUE=DATE:20260613
DTEND;VALUE=DATE:20260614
DTSTAMP:20260424T032325
CREATED:20260327T042229Z
LAST-MODIFIED:20260327T042229Z
UID:3124-1781308800-1781395199@jh.kiso-ookuwa.net
SUMMARY:中体連　中信地区大会（バレー）
DESCRIPTION:
URL:https://jh.kiso-ookuwa.net/event/%e4%b8%ad%e4%bd%93%e9%80%a3%e3%80%80%e4%b8%ad%e4%bf%a1%e5%9c%b0%e5%8c%ba%e5%a4%a7%e4%bc%9a%ef%bc%88%e3%83%90%e3%83%ac%e3%83%bc%ef%bc%89/
END:VEVENT
BEGIN:VEVENT
DTSTART;VALUE=DATE:20260614
DTEND;VALUE=DATE:20260615
DTSTAMP:20260424T032325
CREATED:20260327T042326Z
LAST-MODIFIED:20260327T042326Z
UID:3128-1781395200-1781481599@jh.kiso-ookuwa.net
SUMMARY:中体連　中信地区大会（バレー）
DESCRIPTION:
URL:https://jh.kiso-ookuwa.net/event/%e4%b8%ad%e4%bd%93%e9%80%a3%e3%80%80%e4%b8%ad%e4%bf%a1%e5%9c%b0%e5%8c%ba%e5%a4%a7%e4%bc%9a%ef%bc%88%e3%83%90%e3%83%ac%e3%83%bc%ef%bc%89-2/
END:VEVENT
BEGIN:VEVENT
DTSTART;VALUE=DATE:20260615
DTEND;VALUE=DATE:20260616
DTSTAMP:20260424T032325
CREATED:20260327T041816Z
LAST-MODIFIED:20260327T041816Z
UID:3115-1781481600-1781567999@jh.kiso-ookuwa.net
SUMMARY:計画休業
DESCRIPTION:
URL:https://jh.kiso-ookuwa.net/event/%e8%a8%88%e7%94%bb%e4%bc%91%e6%a5%ad/
END:VEVENT
END:VCALENDAR