BEGIN:VCALENDAR
VERSION:2.0
PRODID:-//大桑村立 大桑中学校 - ECPv6.15.20//NONSGML v1.0//EN
CALSCALE:GREGORIAN
METHOD:PUBLISH
X-WR-CALNAME:大桑村立 大桑中学校
X-ORIGINAL-URL:https://jh.kiso-ookuwa.net
X-WR-CALDESC:大桑村立 大桑中学校 のイベント
REFRESH-INTERVAL;VALUE=DURATION:PT1H
X-Robots-Tag:noindex
X-PUBLISHED-TTL:PT1H
BEGIN:VTIMEZONE
TZID:Asia/Tokyo
BEGIN:STANDARD
TZOFFSETFROM:+0900
TZOFFSETTO:+0900
TZNAME:JST
DTSTART:20240101T000000
END:STANDARD
END:VTIMEZONE
BEGIN:VEVENT
DTSTART;VALUE=DATE:20260224
DTEND;VALUE=DATE:20260225
DTSTAMP:20260424T051628
CREATED:20250918T001321Z
LAST-MODIFIED:20250918T001321Z
UID:2834-1771891200-1771977599@jh.kiso-ookuwa.net
SUMMARY:生徒総会
DESCRIPTION:
URL:https://jh.kiso-ookuwa.net/event/%e7%94%9f%e5%be%92%e7%b7%8f%e4%bc%9a-4/
END:VEVENT
BEGIN:VEVENT
DTSTART;VALUE=DATE:20260220
DTEND;VALUE=DATE:20260221
DTSTAMP:20260424T051628
CREATED:20250918T001241Z
LAST-MODIFIED:20250918T001241Z
UID:2832-1771545600-1771631999@jh.kiso-ookuwa.net
SUMMARY:参観日
DESCRIPTION:
URL:https://jh.kiso-ookuwa.net/event/%e5%8f%82%e8%a6%b3%e6%97%a5/
END:VEVENT
BEGIN:VEVENT
DTSTART;VALUE=DATE:20260218
DTEND;VALUE=DATE:20260219
DTSTAMP:20260424T051628
CREATED:20250918T001214Z
LAST-MODIFIED:20250918T001214Z
UID:2830-1771372800-1771459199@jh.kiso-ookuwa.net
SUMMARY:前期選抜　合格発表
DESCRIPTION:
URL:https://jh.kiso-ookuwa.net/event/%e5%89%8d%e6%9c%9f%e9%81%b8%e6%8a%9c%e3%80%80%e5%90%88%e6%a0%bc%e7%99%ba%e8%a1%a8/
END:VEVENT
BEGIN:VEVENT
DTSTART;VALUE=DATE:20260213
DTEND;VALUE=DATE:20260214
DTSTAMP:20260424T051628
CREATED:20250918T001119Z
LAST-MODIFIED:20250918T001119Z
UID:2828-1770940800-1771027199@jh.kiso-ookuwa.net
SUMMARY:期末テスト　３年総合テスト⑥
DESCRIPTION:
URL:https://jh.kiso-ookuwa.net/event/%e6%9c%9f%e6%9c%ab%e3%83%86%e3%82%b9%e3%83%88%e3%80%80%ef%bc%93%e5%b9%b4%e7%b7%8f%e5%90%88%e3%83%86%e3%82%b9%e3%83%88%e2%91%a5/
END:VEVENT
BEGIN:VEVENT
DTSTART;VALUE=DATE:20260209
DTEND;VALUE=DATE:20260210
DTSTAMP:20260424T051628
CREATED:20250918T001037Z
LAST-MODIFIED:20250918T001037Z
UID:2826-1770595200-1770681599@jh.kiso-ookuwa.net
SUMMARY:前期選抜
DESCRIPTION:
URL:https://jh.kiso-ookuwa.net/event/%e5%89%8d%e6%9c%9f%e9%81%b8%e6%8a%9c/
END:VEVENT
BEGIN:VEVENT
DTSTART;VALUE=DATE:20260115
DTEND;VALUE=DATE:20260116
DTSTAMP:20260424T051628
CREATED:20250918T000930Z
LAST-MODIFIED:20250918T000930Z
UID:2824-1768435200-1768521599@jh.kiso-ookuwa.net
SUMMARY:新入生保護者説明会
DESCRIPTION:
URL:https://jh.kiso-ookuwa.net/event/%e6%96%b0%e5%85%a5%e7%94%9f%e4%bf%9d%e8%ad%b7%e8%80%85%e8%aa%ac%e6%98%8e%e4%bc%9a-2/
END:VEVENT
BEGIN:VEVENT
DTSTART;VALUE=DATE:20260108
DTEND;VALUE=DATE:20260109
DTSTAMP:20260424T051628
CREATED:20250918T000829Z
LAST-MODIFIED:20250918T000829Z
UID:2822-1767830400-1767916799@jh.kiso-ookuwa.net
SUMMARY:３年総合テスト⑤　１・２年ＣＲＴ検査
DESCRIPTION:
URL:https://jh.kiso-ookuwa.net/event/%ef%bc%93%e5%b9%b4%e7%b7%8f%e5%90%88%e3%83%86%e3%82%b9%e3%83%88%e2%91%a4%e3%80%80%ef%bc%91%e3%83%bb%ef%bc%92%e5%b9%b4%ef%bd%83%ef%bd%92%ef%bd%94%e6%a4%9c%e6%9f%bb/
END:VEVENT
BEGIN:VEVENT
DTSTART;VALUE=DATE:20260107
DTEND;VALUE=DATE:20260108
DTSTAMP:20260424T051628
CREATED:20250918T000636Z
LAST-MODIFIED:20250918T000636Z
UID:2820-1767744000-1767830399@jh.kiso-ookuwa.net
SUMMARY:３学期始業式
DESCRIPTION:
URL:https://jh.kiso-ookuwa.net/event/%ef%bc%93%e5%ad%a6%e6%9c%9f%e5%a7%8b%e6%a5%ad%e5%bc%8f/
END:VEVENT
BEGIN:VEVENT
DTSTART;VALUE=DATE:20251224
DTEND;VALUE=DATE:20251225
DTSTAMP:20260424T051628
CREATED:20250918T000548Z
LAST-MODIFIED:20250918T000548Z
UID:2818-1766534400-1766620799@jh.kiso-ookuwa.net
SUMMARY:年末年始休業　～１/６
DESCRIPTION:
URL:https://jh.kiso-ookuwa.net/event/%e5%b9%b4%e6%9c%ab%e5%b9%b4%e5%a7%8b%e4%bc%91%e6%a5%ad%e3%80%80%ef%bd%9e%ef%bc%91-%ef%bc%96/
END:VEVENT
BEGIN:VEVENT
DTSTART;VALUE=DATE:20251223
DTEND;VALUE=DATE:20251224
DTSTAMP:20260424T051628
CREATED:20250918T000455Z
LAST-MODIFIED:20250918T000455Z
UID:2816-1766448000-1766534399@jh.kiso-ookuwa.net
SUMMARY:２学期終業式
DESCRIPTION:
URL:https://jh.kiso-ookuwa.net/event/%ef%bc%92%e5%ad%a6%e6%9c%9f%e7%b5%82%e6%a5%ad%e5%bc%8f/
END:VEVENT
BEGIN:VEVENT
DTSTART;VALUE=DATE:20251216
DTEND;VALUE=DATE:20251217
DTSTAMP:20260424T051628
CREATED:20250918T000423Z
LAST-MODIFIED:20250918T000423Z
UID:2814-1765843200-1765929599@jh.kiso-ookuwa.net
SUMMARY:生徒総会
DESCRIPTION:
URL:https://jh.kiso-ookuwa.net/event/%e7%94%9f%e5%be%92%e7%b7%8f%e4%bc%9a-3/
END:VEVENT
BEGIN:VEVENT
DTSTART;VALUE=DATE:20251209
DTEND;VALUE=DATE:20251210
DTSTAMP:20260424T051628
CREATED:20250918T000356Z
LAST-MODIFIED:20250918T000356Z
UID:2812-1765238400-1765324799@jh.kiso-ookuwa.net
SUMMARY:保護者懇談会➃
DESCRIPTION:
URL:https://jh.kiso-ookuwa.net/event/%e4%bf%9d%e8%ad%b7%e8%80%85%e6%87%87%e8%ab%87%e4%bc%9a%e2%9e%83/
END:VEVENT
BEGIN:VEVENT
DTSTART;VALUE=DATE:20251208
DTEND;VALUE=DATE:20251209
DTSTAMP:20260424T051628
CREATED:20250918T000320Z
LAST-MODIFIED:20250918T000320Z
UID:2810-1765152000-1765238399@jh.kiso-ookuwa.net
SUMMARY:保護者懇談会③
DESCRIPTION:
URL:https://jh.kiso-ookuwa.net/event/%e4%bf%9d%e8%ad%b7%e8%80%85%e6%87%87%e8%ab%87%e4%bc%9a%e2%91%a2/
END:VEVENT
BEGIN:VEVENT
DTSTART;VALUE=DATE:20251205
DTEND;VALUE=DATE:20251206
DTSTAMP:20260424T051628
CREATED:20250918T000247Z
LAST-MODIFIED:20250918T000247Z
UID:2808-1764892800-1764979199@jh.kiso-ookuwa.net
SUMMARY:保護者懇談会②
DESCRIPTION:
URL:https://jh.kiso-ookuwa.net/event/%e4%bf%9d%e8%ad%b7%e8%80%85%e6%87%87%e8%ab%87%e4%bc%9a%e2%91%a1/
END:VEVENT
BEGIN:VEVENT
DTSTART;VALUE=DATE:20251204
DTEND;VALUE=DATE:20251205
DTSTAMP:20260424T051628
CREATED:20250918T000207Z
LAST-MODIFIED:20250918T000207Z
UID:2806-1764806400-1764892799@jh.kiso-ookuwa.net
SUMMARY:保護者懇談会①
DESCRIPTION:
URL:https://jh.kiso-ookuwa.net/event/%e4%bf%9d%e8%ad%b7%e8%80%85%e6%87%87%e8%ab%87%e4%bc%9a%e2%91%a0/
END:VEVENT
BEGIN:VEVENT
DTSTART;VALUE=DATE:20251202
DTEND;VALUE=DATE:20251203
DTSTAMP:20260424T051628
CREATED:20250918T000138Z
LAST-MODIFIED:20250918T000138Z
UID:2804-1764633600-1764719999@jh.kiso-ookuwa.net
SUMMARY:新入生体験入学
DESCRIPTION:
URL:https://jh.kiso-ookuwa.net/event/%e6%96%b0%e5%85%a5%e7%94%9f%e4%bd%93%e9%a8%93%e5%85%a5%e5%ad%a6-2/
END:VEVENT
BEGIN:VEVENT
DTSTART;VALUE=DATE:20251127
DTEND;VALUE=DATE:20251128
DTSTAMP:20260424T051628
CREATED:20251007T001236Z
LAST-MODIFIED:20251007T001236Z
UID:2897-1764201600-1764287999@jh.kiso-ookuwa.net
SUMMARY:人権講演会
DESCRIPTION:
URL:https://jh.kiso-ookuwa.net/event/%e4%ba%ba%e6%a8%a9%e8%ac%9b%e6%bc%94%e4%bc%9a/
END:VEVENT
BEGIN:VEVENT
DTSTART;VALUE=DATE:20251121
DTEND;VALUE=DATE:20251122
DTSTAMP:20260424T051628
CREATED:20250918T000053Z
LAST-MODIFIED:20250918T000053Z
UID:2802-1763683200-1763769599@jh.kiso-ookuwa.net
SUMMARY:期末テスト②　３年総合テスト④
DESCRIPTION:
URL:https://jh.kiso-ookuwa.net/event/%e6%9c%9f%e6%9c%ab%e3%83%86%e3%82%b9%e3%83%88%e2%91%a1%e3%80%80%ef%bc%93%e5%b9%b4%e7%b7%8f%e5%90%88%e3%83%86%e3%82%b9%e3%83%88%e2%91%a3/
END:VEVENT
BEGIN:VEVENT
DTSTART;VALUE=DATE:20251120
DTEND;VALUE=DATE:20251121
DTSTAMP:20260424T051628
CREATED:20250918T000005Z
LAST-MODIFIED:20250918T000005Z
UID:2800-1763596800-1763683199@jh.kiso-ookuwa.net
SUMMARY:期末テスト①　３年総合テスト④
DESCRIPTION:
URL:https://jh.kiso-ookuwa.net/event/%e6%9c%9f%e6%9c%ab%e3%83%86%e3%82%b9%e3%83%88%e2%91%a0%e3%80%80%ef%bc%93%e5%b9%b4%e7%b7%8f%e5%90%88%e3%83%86%e3%82%b9%e3%83%88%e2%91%a3/
END:VEVENT
BEGIN:VEVENT
DTSTART;VALUE=DATE:20251118
DTEND;VALUE=DATE:20251119
DTSTAMP:20260424T051628
CREATED:20250917T235844Z
LAST-MODIFIED:20250917T235844Z
UID:2798-1763424000-1763510399@jh.kiso-ookuwa.net
SUMMARY:生徒会立会演説会・選挙
DESCRIPTION:
URL:https://jh.kiso-ookuwa.net/event/%e7%94%9f%e5%be%92%e4%bc%9a%e7%ab%8b%e4%bc%9a%e6%bc%94%e8%aa%ac%e4%bc%9a%e3%83%bb%e9%81%b8%e6%8c%99/
END:VEVENT
BEGIN:VEVENT
DTSTART;VALUE=DATE:20251107
DTEND;VALUE=DATE:20251108
DTSTAMP:20260424T051628
CREATED:20251007T001157Z
LAST-MODIFIED:20251007T001750Z
UID:2895-1762473600-1762559999@jh.kiso-ookuwa.net
SUMMARY:1年　福祉体験学習
DESCRIPTION:
URL:https://jh.kiso-ookuwa.net/event/1%e5%ad%a6%e5%b9%b4%e3%80%80%e7%a6%8f%e7%a5%89%e4%bd%93%e9%a8%93%e5%ad%a6%e7%bf%92/
END:VEVENT
BEGIN:VEVENT
DTSTART;VALUE=DATE:20251025
DTEND;VALUE=DATE:20251026
DTSTAMP:20260424T051628
CREATED:20250902T230950Z
LAST-MODIFIED:20250902T230950Z
UID:2763-1761350400-1761436799@jh.kiso-ookuwa.net
SUMMARY:３年 修学旅行③
DESCRIPTION:
URL:https://jh.kiso-ookuwa.net/event/%ef%bc%93%e5%b9%b4-%e4%bf%ae%e5%ad%a6%e6%97%85%e8%a1%8c%e2%91%a2/
END:VEVENT
BEGIN:VEVENT
DTSTART;VALUE=DATE:20251024
DTEND;VALUE=DATE:20251025
DTSTAMP:20260424T051628
CREATED:20250902T230919Z
LAST-MODIFIED:20250902T230919Z
UID:2761-1761264000-1761350399@jh.kiso-ookuwa.net
SUMMARY:３年 修学旅行②　２年 職場体験②
DESCRIPTION:
URL:https://jh.kiso-ookuwa.net/event/%ef%bc%93%e5%b9%b4-%e4%bf%ae%e5%ad%a6%e6%97%85%e8%a1%8c%e2%91%a1%e3%80%80%ef%bc%92%e5%b9%b4-%e8%81%b7%e5%a0%b4%e4%bd%93%e9%a8%93%e2%91%a1/
END:VEVENT
BEGIN:VEVENT
DTSTART;VALUE=DATE:20251023
DTEND;VALUE=DATE:20251024
DTSTAMP:20260424T051628
CREATED:20250902T230828Z
LAST-MODIFIED:20250902T230828Z
UID:2759-1761177600-1761263999@jh.kiso-ookuwa.net
SUMMARY:３年 修学旅行①　２年 職場体験①
DESCRIPTION:
URL:https://jh.kiso-ookuwa.net/event/%ef%bc%93%e5%b9%b4-%e4%bf%ae%e5%ad%a6%e6%97%85%e8%a1%8c%e2%91%a0%e3%80%80%ef%bc%92%e5%b9%b4-%e8%81%b7%e5%a0%b4%e4%bd%93%e9%a8%93%e2%91%a0/
END:VEVENT
BEGIN:VEVENT
DTSTART;VALUE=DATE:20251022
DTEND;VALUE=DATE:20251023
DTSTAMP:20260424T051628
CREATED:20250902T230741Z
LAST-MODIFIED:20250902T230741Z
UID:2757-1761091200-1761177599@jh.kiso-ookuwa.net
SUMMARY:３年　郡小中音楽会
DESCRIPTION:
URL:https://jh.kiso-ookuwa.net/event/%ef%bc%93%e5%b9%b4%e3%80%80%e9%83%a1%e5%b0%8f%e4%b8%ad%e9%9f%b3%e6%a5%bd%e4%bc%9a/
END:VEVENT
BEGIN:VEVENT
DTSTART;VALUE=DATE:20251017
DTEND;VALUE=DATE:20251018
DTSTAMP:20260424T051628
CREATED:20250902T230636Z
LAST-MODIFIED:20250902T230636Z
UID:2755-1760659200-1760745599@jh.kiso-ookuwa.net
SUMMARY:参観日　聞く日②
DESCRIPTION:
URL:https://jh.kiso-ookuwa.net/event/%e5%8f%82%e8%a6%b3%e6%97%a5%e3%80%80%e8%81%9e%e3%81%8f%e6%97%a5%e2%91%a1/
END:VEVENT
BEGIN:VEVENT
DTSTART;VALUE=DATE:20251014
DTEND;VALUE=DATE:20251015
DTSTAMP:20260424T051628
CREATED:20250902T230559Z
LAST-MODIFIED:20250902T230559Z
UID:2753-1760400000-1760486399@jh.kiso-ookuwa.net
SUMMARY:１・２年中間テスト　３年総合テスト③
DESCRIPTION:
URL:https://jh.kiso-ookuwa.net/event/%ef%bc%91%e3%83%bb%ef%bc%92%e5%b9%b4%e4%b8%ad%e9%96%93%e3%83%86%e3%82%b9%e3%83%88%e3%80%80%ef%bc%93%e5%b9%b4%e7%b7%8f%e5%90%88%e3%83%86%e3%82%b9%e3%83%88%e2%91%a2/
END:VEVENT
BEGIN:VEVENT
DTSTART;VALUE=DATE:20251007
DTEND;VALUE=DATE:20251008
DTSTAMP:20260424T051628
CREATED:20250902T230225Z
LAST-MODIFIED:20250902T230252Z
UID:2751-1759795200-1759881599@jh.kiso-ookuwa.net
SUMMARY:教育課程研究協議会のため特別日課（３時間授業）
DESCRIPTION:
URL:https://jh.kiso-ookuwa.net/event/%e6%95%99%e8%82%b2%e8%aa%b2%e7%a8%8b%e7%a0%94%e7%a9%b6%e5%8d%94%e8%ad%b0%e4%bc%9a%e3%81%ae%e3%81%9f%e3%82%81%e7%89%b9%e5%88%a5%e6%97%a5%e8%aa%b2%ef%bc%88%ef%bc%93%e6%99%82%e9%96%93%e6%8e%88%e6%a5%ad/
END:VEVENT
BEGIN:VEVENT
DTSTART;VALUE=DATE:20251004
DTEND;VALUE=DATE:20251005
DTSTAMP:20260424T051628
CREATED:20250902T225559Z
LAST-MODIFIED:20250902T225559Z
UID:2747-1759536000-1759622399@jh.kiso-ookuwa.net
SUMMARY:小中合同資源物回収
DESCRIPTION:
URL:https://jh.kiso-ookuwa.net/event/%e5%b0%8f%e4%b8%ad%e5%90%88%e5%90%8c%e8%b3%87%e6%ba%90%e7%89%a9%e5%9b%9e%e5%8f%8e/
END:VEVENT
BEGIN:VEVENT
DTSTART;VALUE=DATE:20251003
DTEND;VALUE=DATE:20251004
DTSTAMP:20260424T051628
CREATED:20250902T225749Z
LAST-MODIFIED:20250917T235346Z
UID:2749-1759449600-1759535999@jh.kiso-ookuwa.net
SUMMARY:１年 除伐体験
DESCRIPTION:
URL:https://jh.kiso-ookuwa.net/event/%ef%bc%91%e5%b9%b4-%e9%99%a4%e4%bc%90%e4%bd%93%e9%a8%93/
END:VEVENT
END:VCALENDAR