BEGIN:VCALENDAR
VERSION:2.0
PRODID:-//大桑村立 大桑中学校 - ECPv6.15.20//NONSGML v1.0//EN
CALSCALE:GREGORIAN
METHOD:PUBLISH
X-WR-CALNAME:大桑村立 大桑中学校
X-ORIGINAL-URL:https://jh.kiso-ookuwa.net
X-WR-CALDESC:大桑村立 大桑中学校 のイベント
REFRESH-INTERVAL;VALUE=DURATION:PT1H
X-Robots-Tag:noindex
X-PUBLISHED-TTL:PT1H
BEGIN:VTIMEZONE
TZID:Asia/Tokyo
BEGIN:STANDARD
TZOFFSETFROM:+0900
TZOFFSETTO:+0900
TZNAME:JST
DTSTART:20230101T000000
END:STANDARD
END:VTIMEZONE
BEGIN:VEVENT
DTSTART;VALUE=DATE:20251025
DTEND;VALUE=DATE:20251026
DTSTAMP:20260426T012541
CREATED:20250902T230950Z
LAST-MODIFIED:20250902T230950Z
UID:2763-1761350400-1761436799@jh.kiso-ookuwa.net
SUMMARY:３年 修学旅行③
DESCRIPTION:
URL:https://jh.kiso-ookuwa.net/event/%ef%bc%93%e5%b9%b4-%e4%bf%ae%e5%ad%a6%e6%97%85%e8%a1%8c%e2%91%a2/
END:VEVENT
BEGIN:VEVENT
DTSTART;VALUE=DATE:20251024
DTEND;VALUE=DATE:20251025
DTSTAMP:20260426T012541
CREATED:20250902T230919Z
LAST-MODIFIED:20250902T230919Z
UID:2761-1761264000-1761350399@jh.kiso-ookuwa.net
SUMMARY:３年 修学旅行②　２年 職場体験②
DESCRIPTION:
URL:https://jh.kiso-ookuwa.net/event/%ef%bc%93%e5%b9%b4-%e4%bf%ae%e5%ad%a6%e6%97%85%e8%a1%8c%e2%91%a1%e3%80%80%ef%bc%92%e5%b9%b4-%e8%81%b7%e5%a0%b4%e4%bd%93%e9%a8%93%e2%91%a1/
END:VEVENT
BEGIN:VEVENT
DTSTART;VALUE=DATE:20251023
DTEND;VALUE=DATE:20251024
DTSTAMP:20260426T012541
CREATED:20250902T230828Z
LAST-MODIFIED:20250902T230828Z
UID:2759-1761177600-1761263999@jh.kiso-ookuwa.net
SUMMARY:３年 修学旅行①　２年 職場体験①
DESCRIPTION:
URL:https://jh.kiso-ookuwa.net/event/%ef%bc%93%e5%b9%b4-%e4%bf%ae%e5%ad%a6%e6%97%85%e8%a1%8c%e2%91%a0%e3%80%80%ef%bc%92%e5%b9%b4-%e8%81%b7%e5%a0%b4%e4%bd%93%e9%a8%93%e2%91%a0/
END:VEVENT
BEGIN:VEVENT
DTSTART;VALUE=DATE:20251022
DTEND;VALUE=DATE:20251023
DTSTAMP:20260426T012541
CREATED:20250902T230741Z
LAST-MODIFIED:20250902T230741Z
UID:2757-1761091200-1761177599@jh.kiso-ookuwa.net
SUMMARY:３年　郡小中音楽会
DESCRIPTION:
URL:https://jh.kiso-ookuwa.net/event/%ef%bc%93%e5%b9%b4%e3%80%80%e9%83%a1%e5%b0%8f%e4%b8%ad%e9%9f%b3%e6%a5%bd%e4%bc%9a/
END:VEVENT
BEGIN:VEVENT
DTSTART;VALUE=DATE:20251017
DTEND;VALUE=DATE:20251018
DTSTAMP:20260426T012541
CREATED:20250902T230636Z
LAST-MODIFIED:20250902T230636Z
UID:2755-1760659200-1760745599@jh.kiso-ookuwa.net
SUMMARY:参観日　聞く日②
DESCRIPTION:
URL:https://jh.kiso-ookuwa.net/event/%e5%8f%82%e8%a6%b3%e6%97%a5%e3%80%80%e8%81%9e%e3%81%8f%e6%97%a5%e2%91%a1/
END:VEVENT
BEGIN:VEVENT
DTSTART;VALUE=DATE:20251014
DTEND;VALUE=DATE:20251015
DTSTAMP:20260426T012541
CREATED:20250902T230559Z
LAST-MODIFIED:20250902T230559Z
UID:2753-1760400000-1760486399@jh.kiso-ookuwa.net
SUMMARY:１・２年中間テスト　３年総合テスト③
DESCRIPTION:
URL:https://jh.kiso-ookuwa.net/event/%ef%bc%91%e3%83%bb%ef%bc%92%e5%b9%b4%e4%b8%ad%e9%96%93%e3%83%86%e3%82%b9%e3%83%88%e3%80%80%ef%bc%93%e5%b9%b4%e7%b7%8f%e5%90%88%e3%83%86%e3%82%b9%e3%83%88%e2%91%a2/
END:VEVENT
BEGIN:VEVENT
DTSTART;VALUE=DATE:20251007
DTEND;VALUE=DATE:20251008
DTSTAMP:20260426T012541
CREATED:20250902T230225Z
LAST-MODIFIED:20250902T230252Z
UID:2751-1759795200-1759881599@jh.kiso-ookuwa.net
SUMMARY:教育課程研究協議会のため特別日課（３時間授業）
DESCRIPTION:
URL:https://jh.kiso-ookuwa.net/event/%e6%95%99%e8%82%b2%e8%aa%b2%e7%a8%8b%e7%a0%94%e7%a9%b6%e5%8d%94%e8%ad%b0%e4%bc%9a%e3%81%ae%e3%81%9f%e3%82%81%e7%89%b9%e5%88%a5%e6%97%a5%e8%aa%b2%ef%bc%88%ef%bc%93%e6%99%82%e9%96%93%e6%8e%88%e6%a5%ad/
END:VEVENT
BEGIN:VEVENT
DTSTART;VALUE=DATE:20251004
DTEND;VALUE=DATE:20251005
DTSTAMP:20260426T012541
CREATED:20250902T225559Z
LAST-MODIFIED:20250902T225559Z
UID:2747-1759536000-1759622399@jh.kiso-ookuwa.net
SUMMARY:小中合同資源物回収
DESCRIPTION:
URL:https://jh.kiso-ookuwa.net/event/%e5%b0%8f%e4%b8%ad%e5%90%88%e5%90%8c%e8%b3%87%e6%ba%90%e7%89%a9%e5%9b%9e%e5%8f%8e/
END:VEVENT
BEGIN:VEVENT
DTSTART;VALUE=DATE:20251003
DTEND;VALUE=DATE:20251004
DTSTAMP:20260426T012541
CREATED:20250902T225749Z
LAST-MODIFIED:20250917T235346Z
UID:2749-1759449600-1759535999@jh.kiso-ookuwa.net
SUMMARY:１年 除伐体験
DESCRIPTION:
URL:https://jh.kiso-ookuwa.net/event/%ef%bc%91%e5%b9%b4-%e9%99%a4%e4%bc%90%e4%bd%93%e9%a8%93/
END:VEVENT
BEGIN:VEVENT
DTSTART;VALUE=DATE:20250929
DTEND;VALUE=DATE:20250930
DTSTAMP:20260426T012541
CREATED:20250729T061050Z
LAST-MODIFIED:20250730T065724Z
UID:2723-1759104000-1759190399@jh.kiso-ookuwa.net
SUMMARY:振替休業
DESCRIPTION:９月２９日（月）
URL:https://jh.kiso-ookuwa.net/event/%e6%8c%af%e6%9b%bf%e4%bc%91%e6%a5%ad/
END:VEVENT
BEGIN:VEVENT
DTSTART;VALUE=DATE:20250927
DTEND;VALUE=DATE:20250928
DTSTAMP:20260426T012541
CREATED:20250729T061020Z
LAST-MODIFIED:20250730T065655Z
UID:2721-1758931200-1759017599@jh.kiso-ookuwa.net
SUMMARY:桑華祭②
DESCRIPTION:９月２７日（土）
URL:https://jh.kiso-ookuwa.net/event/%e6%a1%91%e8%8f%af%e7%a5%ad%e2%91%a1/
END:VEVENT
BEGIN:VEVENT
DTSTART;VALUE=DATE:20250926
DTEND;VALUE=DATE:20250927
DTSTAMP:20260426T012541
CREATED:20250729T060947Z
LAST-MODIFIED:20250730T065609Z
UID:2719-1758844800-1758931199@jh.kiso-ookuwa.net
SUMMARY:桑華祭①
DESCRIPTION:９月２６日（金）
URL:https://jh.kiso-ookuwa.net/event/%e6%a1%91%e8%8f%af%e7%a5%ad%e2%91%a0/
END:VEVENT
BEGIN:VEVENT
DTSTART;VALUE=DATE:20250913
DTEND;VALUE=DATE:20250914
DTSTAMP:20260426T012541
CREATED:20250729T060903Z
LAST-MODIFIED:20250730T065750Z
UID:2717-1757721600-1757807999@jh.kiso-ookuwa.net
SUMMARY:親子作業
DESCRIPTION:９月１３日（土）
URL:https://jh.kiso-ookuwa.net/event/%e8%a6%aa%e5%ad%90%e4%bd%9c%e6%a5%ad-2/
END:VEVENT
BEGIN:VEVENT
DTSTART;VALUE=DATE:20250908
DTEND;VALUE=DATE:20250909
DTSTAMP:20260426T012541
CREATED:20250729T060821Z
LAST-MODIFIED:20250730T065812Z
UID:2715-1757289600-1757375999@jh.kiso-ookuwa.net
SUMMARY:子どものためのオペラ鑑賞（１年）
DESCRIPTION:９月８日（月）
URL:https://jh.kiso-ookuwa.net/event/%e5%ad%90%e3%81%a9%e3%82%82%e3%81%ae%e3%81%9f%e3%82%81%e3%81%ae%e3%82%aa%e3%83%9a%e3%83%a9%e9%91%91%e8%b3%9e%ef%bc%88%ef%bc%91%e5%b9%b4%ef%bc%89/
END:VEVENT
BEGIN:VEVENT
DTSTART;VALUE=DATE:20250822
DTEND;VALUE=DATE:20250823
DTSTAMP:20260426T012541
CREATED:20250729T060623Z
LAST-MODIFIED:20250730T065324Z
UID:2713-1755820800-1755907199@jh.kiso-ookuwa.net
SUMMARY:２学期始業式
DESCRIPTION:８月２２日（金）
URL:https://jh.kiso-ookuwa.net/event/%ef%bc%92%e5%ad%a6%e6%9c%9f%e5%a7%8b%e6%a5%ad%e5%bc%8f/
END:VEVENT
BEGIN:VEVENT
DTSTART;TZID=Asia/Tokyo:20250107T090000
DTEND;TZID=Asia/Tokyo:20250107T090000
DTSTAMP:20260426T012541
CREATED:20241015T005202Z
LAST-MODIFIED:20241015T005202Z
UID:2465-1736240400-1736240400@jh.kiso-ookuwa.net
SUMMARY:3学期始業式
DESCRIPTION:計画中
URL:https://jh.kiso-ookuwa.net/event/3%e5%ad%a6%e6%9c%9f%e5%a7%8b%e6%a5%ad%e5%bc%8f-2/
END:VEVENT
BEGIN:VEVENT
DTSTART;TZID=Asia/Tokyo:20241223T133000
DTEND;TZID=Asia/Tokyo:20241223T140000
DTSTAMP:20260426T012541
CREATED:20241015T005108Z
LAST-MODIFIED:20241015T005108Z
UID:2463-1734960600-1734962400@jh.kiso-ookuwa.net
SUMMARY:2学期終業式
DESCRIPTION:計画中
URL:https://jh.kiso-ookuwa.net/event/2%e5%ad%a6%e6%9c%9f%e7%b5%82%e6%a5%ad%e5%bc%8f-2/
END:VEVENT
BEGIN:VEVENT
DTSTART;TZID=Asia/Tokyo:20241217T023000
DTEND;TZID=Asia/Tokyo:20241217T153000
DTSTAMP:20260426T012541
CREATED:20241015T005020Z
LAST-MODIFIED:20241015T005020Z
UID:2460-1734402600-1734449400@jh.kiso-ookuwa.net
SUMMARY:生徒総会
DESCRIPTION:計画中
URL:https://jh.kiso-ookuwa.net/event/%e7%94%9f%e5%be%92%e7%b7%8f%e4%bc%9a-2/
END:VEVENT
BEGIN:VEVENT
DTSTART;TZID=Asia/Tokyo:20241209T140000
DTEND;TZID=Asia/Tokyo:20241213T170000
DTSTAMP:20260426T012541
CREATED:20241015T004859Z
LAST-MODIFIED:20241015T004913Z
UID:2457-1733752800-1734109200@jh.kiso-ookuwa.net
SUMMARY:保護者懇談会(三者懇談)
DESCRIPTION:計画中
URL:https://jh.kiso-ookuwa.net/event/%e4%bf%9d%e8%ad%b7%e8%80%85%e6%87%87%e8%ab%87%e4%bc%9a%e4%b8%89%e8%80%85%e6%87%87%e8%ab%87/
END:VEVENT
BEGIN:VEVENT
DTSTART;TZID=Asia/Tokyo:20241203T133000
DTEND;TZID=Asia/Tokyo:20241203T163000
DTSTAMP:20260426T012541
CREATED:20241015T004739Z
LAST-MODIFIED:20241015T004739Z
UID:2455-1733232600-1733243400@jh.kiso-ookuwa.net
SUMMARY:新入生体験入学
DESCRIPTION:計画中
URL:https://jh.kiso-ookuwa.net/event/%e6%96%b0%e5%85%a5%e7%94%9f%e4%bd%93%e9%a8%93%e5%85%a5%e5%ad%a6/
END:VEVENT
BEGIN:VEVENT
DTSTART;TZID=Asia/Tokyo:20241119T023000
DTEND;TZID=Asia/Tokyo:20241119T153000
DTSTAMP:20260426T012541
CREATED:20241015T004108Z
LAST-MODIFIED:20241015T004108Z
UID:2453-1731983400-1732030200@jh.kiso-ookuwa.net
SUMMARY:生徒会選挙・立ち会い演説会
DESCRIPTION:11月20日(水)選挙結果公示
URL:https://jh.kiso-ookuwa.net/event/%e7%94%9f%e5%be%92%e4%bc%9a%e9%81%b8%e6%8c%99%e3%83%bb%e7%ab%8b%e3%81%a1%e4%bc%9a%e3%81%84%e6%bc%94%e8%aa%ac%e4%bc%9a/
END:VEVENT
BEGIN:VEVENT
DTSTART;TZID=Asia/Tokyo:20241114T133000
DTEND;TZID=Asia/Tokyo:20241114T153000
DTSTAMP:20260426T012541
CREATED:20241015T003839Z
LAST-MODIFIED:20241015T003839Z
UID:2451-1731591000-1731598200@jh.kiso-ookuwa.net
SUMMARY:第2回オオクワガタＣＳ
DESCRIPTION:計画中
URL:https://jh.kiso-ookuwa.net/event/%e7%ac%ac2%e5%9b%9e%e3%82%aa%e3%82%aa%e3%82%af%e3%83%af%e3%82%ac%e3%82%bf%ef%bd%83%ef%bd%93/
LOCATION:大桑中学校
END:VEVENT
BEGIN:VEVENT
DTSTART;TZID=Asia/Tokyo:20241111T083000
DTEND;TZID=Asia/Tokyo:20241112T143000
DTSTAMP:20260426T012541
CREATED:20241015T003603Z
LAST-MODIFIED:20241015T003603Z
UID:2449-1731313800-1731421800@jh.kiso-ookuwa.net
SUMMARY:2学期末・総合テスト
DESCRIPTION:詳細は週暦にて通知
URL:https://jh.kiso-ookuwa.net/event/2%e5%ad%a6%e6%9c%9f%e6%9c%ab%e3%83%bb%e7%b7%8f%e5%90%88%e3%83%86%e3%82%b9%e3%83%88/
END:VEVENT
BEGIN:VEVENT
DTSTART;TZID=Asia/Tokyo:20241030T060000
DTEND;TZID=Asia/Tokyo:20241101T183000
DTSTAMP:20260426T012541
CREATED:20241015T003305Z
LAST-MODIFIED:20241015T003340Z
UID:2446-1730268000-1730485800@jh.kiso-ookuwa.net
SUMMARY:3学年修学旅行
DESCRIPTION:【10/30(水)】\n〔奈良〕法隆寺→薬師寺→興福寺→東大寺→宿舎(京都)\n【10/31(木)】\n〔京都班別行動〕京都市内→高台寺\n【11/1(金)】\n〔京都〕清水寺→三十三間堂→銀閣寺
URL:https://jh.kiso-ookuwa.net/event/3%e5%ad%a6%e5%b9%b4%e4%bf%ae%e5%ad%a6%e6%97%85%e8%a1%8c/
END:VEVENT
BEGIN:VEVENT
DTSTART;TZID=Asia/Tokyo:20241023T090000
DTEND;TZID=Asia/Tokyo:20241023T160000
DTSTAMP:20260426T012541
CREATED:20241015T002542Z
LAST-MODIFIED:20241015T002718Z
UID:2444-1729674000-1729699200@jh.kiso-ookuwa.net
SUMMARY:木曽郡小中学校音楽会
DESCRIPTION:午前　小学校の部\n午後　中学校の部\n※一般観覧不可
URL:https://jh.kiso-ookuwa.net/event/%e6%9c%a8%e6%9b%bd%e9%83%a1%e5%b0%8f%e4%b8%ad%e5%ad%a6%e6%a0%a1%e9%9f%b3%e6%a5%bd%e4%bc%9a/
END:VEVENT
BEGIN:VEVENT
DTSTART;TZID=Asia/Tokyo:20241017T083000
DTEND;TZID=Asia/Tokyo:20241017T163000
DTSTAMP:20260426T012541
CREATED:20241015T001939Z
LAST-MODIFIED:20241015T002317Z
UID:2440-1729153800-1729182600@jh.kiso-ookuwa.net
SUMMARY:授業参観・PTA講演会
DESCRIPTION:8:45- 1時間目\n9:45-  2時間目\n10:50- 3時間目\n11:50- 4時間目\n13:40-13:55 短学活\n14:00-15:20 PTA講演会・聞く日\n　講師　種田 博之(たねだ ひろゆき) さん〔プロギタリスト〕\n　演題　「今，いる場所をいつくしむ極意」～プロミュージシャンが演奏とともに伝えたい 地域美化活動から学んだこと～\n15:35-16:30 学年PTA
URL:https://jh.kiso-ookuwa.net/event/%e6%8e%88%e6%a5%ad%e5%8f%82%e8%a6%b3%e3%83%bbpta%e8%ac%9b%e6%bc%94%e4%bc%9a/
LOCATION:大桑中学校
END:VEVENT
BEGIN:VEVENT
DTSTART;TZID=Asia/Tokyo:20240327T083000
DTEND;TZID=Asia/Tokyo:20240327T115000
DTSTAMP:20260426T012541
CREATED:20240118T024035Z
LAST-MODIFIED:20240118T024115Z
UID:2267-1711528200-1711540200@jh.kiso-ookuwa.net
SUMMARY:新2\,3年生新年度準備登校
DESCRIPTION:
URL:https://jh.kiso-ookuwa.net/event/%e6%96%b023%e5%b9%b4%e7%94%9f%e6%96%b0%e5%b9%b4%e5%ba%a6%e6%ba%96%e5%82%99%e7%99%bb%e6%a0%a1/
END:VEVENT
BEGIN:VEVENT
DTSTART;TZID=Asia/Tokyo:20240318T085000
DTEND;TZID=Asia/Tokyo:20240318T101500
DTSTAMP:20260426T012541
CREATED:20240118T023855Z
LAST-MODIFIED:20240118T023855Z
UID:2265-1710751800-1710756900@jh.kiso-ookuwa.net
SUMMARY:卒業証書授与式
DESCRIPTION:
URL:https://jh.kiso-ookuwa.net/event/%e5%8d%92%e6%a5%ad%e8%a8%bc%e6%9b%b8%e6%8e%88%e4%b8%8e%e5%bc%8f/
END:VEVENT
BEGIN:VEVENT
DTSTART;TZID=Asia/Tokyo:20240315T084500
DTEND;TZID=Asia/Tokyo:20240315T091500
DTSTAMP:20260426T012541
CREATED:20240118T023542Z
LAST-MODIFIED:20240118T023601Z
UID:2263-1710492300-1710494100@jh.kiso-ookuwa.net
SUMMARY:3学期終業式
DESCRIPTION:
URL:https://jh.kiso-ookuwa.net/event/3%e5%ad%a6%e6%9c%9f%e7%b5%82%e6%a5%ad%e5%bc%8f/
END:VEVENT
BEGIN:VEVENT
DTSTART;TZID=Asia/Tokyo:20240311T143000
DTEND;TZID=Asia/Tokyo:20240311T163000
DTSTAMP:20260426T012541
CREATED:20240118T023307Z
LAST-MODIFIED:20240118T023307Z
UID:2261-1710167400-1710174600@jh.kiso-ookuwa.net
SUMMARY:3年生を送る会
DESCRIPTION:
URL:https://jh.kiso-ookuwa.net/event/3%e5%b9%b4%e7%94%9f%e3%82%92%e9%80%81%e3%82%8b%e4%bc%9a/
END:VEVENT
END:VCALENDAR