BEGIN:VCALENDAR
VERSION:2.0
PRODID:-//大桑村立 大桑中学校 - ECPv6.15.20//NONSGML v1.0//EN
CALSCALE:GREGORIAN
METHOD:PUBLISH
X-ORIGINAL-URL:https://jh.kiso-ookuwa.net
X-WR-CALDESC:大桑村立 大桑中学校 のイベント
REFRESH-INTERVAL;VALUE=DURATION:PT1H
X-Robots-Tag:noindex
X-PUBLISHED-TTL:PT1H
BEGIN:VTIMEZONE
TZID:Asia/Tokyo
BEGIN:STANDARD
TZOFFSETFROM:+0900
TZOFFSETTO:+0900
TZNAME:JST
DTSTART:20220101T000000
END:STANDARD
END:VTIMEZONE
BEGIN:VEVENT
DTSTART;TZID=Asia/Tokyo:20230916T090000
DTEND;TZID=Asia/Tokyo:20230916T120000
DTSTAMP:20260426T033306
CREATED:20230828T033103Z
LAST-MODIFIED:20230829T040959Z
UID:481-1694854800-1694865600@jh.kiso-ookuwa.net
SUMMARY:親子作業
DESCRIPTION:今年度初めての親子作業です。今年はグランドと正門花壇を中心に作業をします。好天が予想されますので、帽子・飲み物などの暑さ対策をお忘れなくお集まりください。
URL:https://jh.kiso-ookuwa.net/event/%e8%a6%aa%e5%ad%90%e4%bd%9c%e6%a5%ad/
CATEGORIES:奉仕・PTA活動
END:VEVENT
END:VCALENDAR